BEGIN:VCALENDAR
VERSION:2.0
PRODID:-//Club de Ajedrez Thader Chess ENAE - ECPv6.15.20//NONSGML v1.0//EN
CALSCALE:GREGORIAN
METHOD:PUBLISH
X-ORIGINAL-URL:https://www.thaderchess.es
X-WR-CALDESC:Eventos para Club de Ajedrez Thader Chess ENAE
REFRESH-INTERVAL;VALUE=DURATION:PT1H
X-Robots-Tag:noindex
X-PUBLISHED-TTL:PT1H
BEGIN:VTIMEZONE
TZID:Europe/Madrid
BEGIN:DAYLIGHT
TZOFFSETFROM:+0100
TZOFFSETTO:+0200
TZNAME:CEST
DTSTART:20250330T010000
END:DAYLIGHT
BEGIN:STANDARD
TZOFFSETFROM:+0200
TZOFFSETTO:+0100
TZNAME:CET
DTSTART:20251026T010000
END:STANDARD
BEGIN:DAYLIGHT
TZOFFSETFROM:+0100
TZOFFSETTO:+0200
TZNAME:CEST
DTSTART:20260329T010000
END:DAYLIGHT
BEGIN:STANDARD
TZOFFSETFROM:+0200
TZOFFSETTO:+0100
TZNAME:CET
DTSTART:20261025T010000
END:STANDARD
BEGIN:DAYLIGHT
TZOFFSETFROM:+0100
TZOFFSETTO:+0200
TZNAME:CEST
DTSTART:20270328T010000
END:DAYLIGHT
BEGIN:STANDARD
TZOFFSETFROM:+0200
TZOFFSETTO:+0100
TZNAME:CET
DTSTART:20271031T010000
END:STANDARD
END:VTIMEZONE
BEGIN:VEVENT
DTSTART;TZID=Europe/Madrid:20260221T080000
DTEND;TZID=Europe/Madrid:20260221T170000
DTSTAMP:20260423T212841
CREATED:20260204T090415Z
LAST-MODIFIED:20260206T121237Z
UID:13747-1771660800-1771693200@www.thaderchess.es
SUMMARY:Campeonato Regional de Ajedrez Rápido por Equipos de Clubes “Copa Federación 2026”
DESCRIPTION:📄 Descargar Bases (PDF)\n        📝 Inscribir Equipo\n    \n     \n\n1. Organización\nOrganiza la Federación de Ajedrez de la Región de Murcia y la Asociación Deportiva Coimbra Jumilla con la colaboración de la Dirección General Deportes de la Comunidad Autónoma de la Región de Murcia y Salón de Celebraciones Media Luna de Jumilla. \nVer Menús\n2. Detalles del Torneo\nFecha: Sábado\, 21 de febrero de 2026. \nRitmo de juego: 15 minutos + 5 segundos de incremento por jugada. \nSistema: Suizo por equipos a siete rondas\, válido para ELO FIDE rápido. \n3. Inscripciones y Cuotas\n\n\n\nEquipo\nCuota de Inscripción\n\n\n\n\n1º Equipo del Club\n60 €\n\n\n2º Equipo del Club\n50 €\n\n\n3º Equipo del Club\n40 €\n\n\nEquipos Sub-14 y restantes\n30 €\n\n\n\nFecha límite: Martes 17 de febrero de 2026 a las 14:00 h. \n4. Horarios\n\n\n\nSorteo y Comité\n09:30 h\n\n\n1ª Ronda\n10:00 h\n\n\n2ª Ronda\n11:00 h\n\n\n3ª Ronda\n12:00 h\n\n\n4ª Ronda\n13:00 h\n\n\nRondas 5-7\nDesde las 16:00 h\n\n\nClausura\n19:15 h\n\n\n\n5. Premios\n\nGeneral: Trofeos y ayudas económicas para los primeros clasificados (Campeón: Viaje Cto. España).\nTramos: Premios especiales para Categoría A (Elo < 1850) y B (Elo ≤ 1600).\nBase: Trofeos para mejores equipos Sub-14\, Sub-12 y Sub-10.\n\n\n                Cartagena\, a 2 de febrero de 2026\n                El Presidente de la FARM
URL:https://www.thaderchess.es/event/campeonato-regional-de-ajedrez-rapido-por-equipos-de-clubes-copa-federacion-2026/
LOCATION:Salón de Celebraciones Media Luna de Jumilla\, Polígono Sectorizado Industrial Norte\, Ctra Jumilla Yecla\, km 73\, Jumilla\, Murcia\, 30520\, Spain
CATEGORIES:Campeonatos
ATTACH;FMTTYPE=image/jpeg:https://www.thaderchess.es/wp-content/uploads/2026/02/CartelCopa2026.jpg
ORGANIZER;CN="Federaci%C3%B3n de Ajedrez de la Regi%C3%B3n de Murcia":MAILTO:farm@farm.es
END:VEVENT
END:VCALENDAR