BEGIN:VCALENDAR
VERSION:2.0
PRODID:-//Club de Ajedrez Thader Chess ENAE - ECPv6.15.20//NONSGML v1.0//EN
CALSCALE:GREGORIAN
METHOD:PUBLISH
X-ORIGINAL-URL:https://www.thaderchess.es
X-WR-CALDESC:Eventos para Club de Ajedrez Thader Chess ENAE
REFRESH-INTERVAL;VALUE=DURATION:PT1H
X-Robots-Tag:noindex
X-PUBLISHED-TTL:PT1H
BEGIN:VTIMEZONE
TZID:Europe/Madrid
BEGIN:DAYLIGHT
TZOFFSETFROM:+0100
TZOFFSETTO:+0200
TZNAME:CEST
DTSTART:20240331T010000
END:DAYLIGHT
BEGIN:STANDARD
TZOFFSETFROM:+0200
TZOFFSETTO:+0100
TZNAME:CET
DTSTART:20241027T010000
END:STANDARD
BEGIN:DAYLIGHT
TZOFFSETFROM:+0100
TZOFFSETTO:+0200
TZNAME:CEST
DTSTART:20250330T010000
END:DAYLIGHT
BEGIN:STANDARD
TZOFFSETFROM:+0200
TZOFFSETTO:+0100
TZNAME:CET
DTSTART:20251026T010000
END:STANDARD
BEGIN:DAYLIGHT
TZOFFSETFROM:+0100
TZOFFSETTO:+0200
TZNAME:CEST
DTSTART:20260329T010000
END:DAYLIGHT
BEGIN:STANDARD
TZOFFSETFROM:+0200
TZOFFSETTO:+0100
TZNAME:CET
DTSTART:20261025T010000
END:STANDARD
END:VTIMEZONE
BEGIN:VEVENT
DTSTART;TZID=Europe/Madrid:20251011T170000
DTEND;TZID=Europe/Madrid:20251129T210000
DTSTAMP:20260424T012755
CREATED:20250916T185035Z
LAST-MODIFIED:20251002T035319Z
UID:12719-1760202000-1764450000@www.thaderchess.es
SUMMARY:Campeonato Regional por Equipos de Clubes Murcia 2025
DESCRIPTION:Campeonato Regional por Equipos de Clubes 2025\n        \n        \n        \n        \n    \n             \n\n\n                Resumen de los detalles más importantes del Campeonato Regional por Equipos de Clubes 2025\, organizado por la Federación de Ajedrez de la Región de Murcia (FARM).\n             \n\n\n\n                        🗓️ Fechas Clave\n                    \n\n• Fecha límite de inscripción:    Antes del 8 de Octubre de 2025.\n• Fechas de juego (Honor\, 1ª y 2ª División):  \n\n✔️ Octubre:   11\, 18\, 25.\n✔️ Noviembre:   8\, 15\, 22\, 29.\n\n\n\n\n\n                        📝 Detalles Generales\n                    \n\n• Organización:   Federación de Ajedrez de la Región de Murcia (FARM).\n• Director:   D. Javier Valera.\n• Horario partidas:   Inicio a las 17:00 h (excepto la última ronda).\n• Ritmo de juego:   90 min/jugador + 30 seg/jugada.\n• Inscripciones:   Enviar hoja y justificante de pago a farm@farm.es.\n\n \n\n\n\n                        ⚙️ Sistema y Equipos\n                    \n\n• Sistema de Juego:  \n\n✔️ Honor\, 1ª y 2ª:   Liga a una vuelta.\n✔️ 3ª División:   Sistema Suizo a 7 rondas.\n\n\n• Jugadores por equipo:  \n\n✔️ División de Honor:   6 jugadores.\n✔️ Primera División:   5 jugadores.\n✔️ Segunda y Tercera División:   4 jugadores.\n\n\n\n\n\n                        🏆 Premios\n                    \n\n• Trofeos  para los 3 primeros de cada división.\n• Campeón y Subcampeón de Honor irán al  Campeonato de España por Equipos.\n• Trofeo para el mejor jugador  de cada tablero en todas las divisiones.\n\n \n\n\n                    ℹ️ Más Información\n                \n\n                    Encuentra todos los detalles\, emparejamientos\, resultados y clasificaciones actualizados en la web de la FARM: www.farm.es y en Chess-results.com.
URL:https://www.thaderchess.es/event/campeonato-regional-por-equipos-de-clubes-murcia-2025/
LOCATION:Centro Social San José Los Ángeles\, c/ Palazón\, 14\, Molina de Segura\, Murcia\, 30500\, Spain
CATEGORIES:Campeonatos
ATTACH;FMTTYPE=image/png:https://www.thaderchess.es/wp-content/uploads/2025/09/Gemini_Generated_Image_16.9.png
ORGANIZER;CN="Federaci%C3%B3n de Ajedrez de la Regi%C3%B3n de Murcia":MAILTO:farm@farm.es
END:VEVENT
END:VCALENDAR