BEGIN:VCALENDAR
VERSION:2.0
PRODID:-//Club de Ajedrez Thader Chess ENAE - ECPv6.15.20//NONSGML v1.0//EN
CALSCALE:GREGORIAN
METHOD:PUBLISH
X-ORIGINAL-URL:https://www.thaderchess.es
X-WR-CALDESC:Eventos para Club de Ajedrez Thader Chess ENAE
REFRESH-INTERVAL;VALUE=DURATION:PT1H
X-Robots-Tag:noindex
X-PUBLISHED-TTL:PT1H
BEGIN:VTIMEZONE
TZID:Europe/Madrid
BEGIN:DAYLIGHT
TZOFFSETFROM:+0100
TZOFFSETTO:+0200
TZNAME:CEST
DTSTART:20240331T010000
END:DAYLIGHT
BEGIN:STANDARD
TZOFFSETFROM:+0200
TZOFFSETTO:+0100
TZNAME:CET
DTSTART:20241027T010000
END:STANDARD
BEGIN:DAYLIGHT
TZOFFSETFROM:+0100
TZOFFSETTO:+0200
TZNAME:CEST
DTSTART:20250330T010000
END:DAYLIGHT
BEGIN:STANDARD
TZOFFSETFROM:+0200
TZOFFSETTO:+0100
TZNAME:CET
DTSTART:20251026T010000
END:STANDARD
BEGIN:DAYLIGHT
TZOFFSETFROM:+0100
TZOFFSETTO:+0200
TZNAME:CEST
DTSTART:20260329T010000
END:DAYLIGHT
BEGIN:STANDARD
TZOFFSETFROM:+0200
TZOFFSETTO:+0100
TZNAME:CET
DTSTART:20261025T010000
END:STANDARD
END:VTIMEZONE
BEGIN:VEVENT
DTSTART;TZID=Europe/Madrid:20251004T090000
DTEND;TZID=Europe/Madrid:20251005T150000
DTSTAMP:20260424T025219
CREATED:20250911T153420Z
LAST-MODIFIED:20250911T154124Z
UID:12702-1759568400-1759676400@www.thaderchess.es
SUMMARY:XIV Campeonato regional por Equipos y Edades 2025
DESCRIPTION:Convocatoria: XIV Campeonato Regional por Equipos y Edades 2025 \n\n\n \n\nXIV Campeonato Regional por Equipos y Edades 2025\nInformación General\n\nFechas del Torneo: 04 y 05 de Octubre de 2025. Se podría añadir el 11 de Octubre si el número de rondas lo requiere.\nLugar de Juego: Biblioteca y Polideportivo Municipal de Los Alcázares.\nValidez: El campeonato será valedero para ELO FIDE y FEDA en todas sus categorías.\nOrganiza: Federación de Ajedrez de la Región de Murcia (FARM).\n\nCategorías por Edad\nLos equipos deben inscribirse en una de las siguientes cuatro categorías. Todos los miembros del equipo deben cumplir con el requisito de edad. \n\nCategoría Sub-18: Jugadores nacidos en 2007/2008 y años posteriores.\nCategoría Sub-16: Jugadores nacidos en 2009/2010 y años posteriores.\nCategoría Sub-14: Jugadores nacidos en 2011/2012 y años posteriores.\nCategoría Sub-12: Jugadores nacidos en 2013 y años posteriores.\n\nProceso de Inscripción\n\n\nPreinscripción (Obligatoria)\nDebe realizarse antes del 01 de Octubre de 2025 a las 14:00 h. \nLa preinscripción debe enviarse por correo electrónico a farm@farm.es y debe incluir: \n\nNombre del equipo y club o centro al que pertenece.\nRelación de jugadores con su fecha de nacimiento.\nLos jugadores deben estar ordenados por ELO FIDE y\, en su defecto\, por ELO FEDA.\n\n\n\nInscripción Oficial\nSe debe formalizar previo pago de la cuota de 50 € por equipo. \nEs obligatorio utilizar el formulario oficial de inscripción\, que debe ser enviado también a farm@farm.es. Se ruega seguir el formato del modelo sin alteraciones. \nLa ordenación de los jugadores en esta inscripción será definitiva para todo el campeonato. \n\n\nComposición y Normativa de Equipos\n\nFormato del Equipo: 4 jugadores titulares más los reservas que se deseen. Los cuatro primeros jugadores de la lista (ordenada por ELO) serán los titulares.\nLicencias: Todos los componentes del equipo deben tener la licencia federativa de la FARM en vigor.\nOrden de Fuerza: Si un club inscribe varios equipos\, ningún jugador titular de un equipo inferior (ej. “Equipo B”) podrá tener más ELO que el último jugador titular del equipo superior (ej. “Equipo A”).\n\nCondiciones Especiales para la Composición de Equipos:\n\nSe permite un jugador por equipo de otro club de la FARM (que no presente equipo en esa categoría) o de otra federación autonómica\, si renovó su licencia en la FARM después del 28 de Febrero.\nUn club puede formar un equipo con jugadores de cualquier procedencia (con licencia renovada o no antes del 28 de Febrero) si la media de ELO de los 4 titulares es más baja que la del último equipo que el club ya presenta.\nSi a un club le faltan jugadores\, puede completarlo con jugadores no inscritos de otros clubes de la FARM\, siempre que la media de ELO del equipo resultante sea inferior a la media de la categoría del año anterior.\n\nDetalles Adicionales del Torneo\n\nLas bases finales con el sistema de juego\, ritmo\, número de rondas\, criterios de desempate y horarios se publicarán en la web de la FARM una vez se conozca el número de equipos inscritos.\nSe podrá jugar el 11 de Octubre si en alguna categoría hay un gran número de equipos o algún jugador con ELO superior a 2400\, para permitir un mayor número de rondas.\n\n\nConvocatoria emitida en Cartagena\, 09 de septiembre de 2025. \nJavier Valera Aznar\, Presidente de la FARM.
URL:https://www.thaderchess.es/event/xiv-campeonato-regional-por-equipos-y-edades-2025/
LOCATION:Pabellón Polideportivo de Los Alcázares\, Av. Joaquín Blume\, 5\, Los Alcázares\, Murcia\, 30710\, España
CATEGORIES:Campeonatos
ATTACH;FMTTYPE=image/jpeg:https://www.thaderchess.es/wp-content/uploads/2025/01/LogoVectorInfoFarm-01.jpg
ORGANIZER;CN="Federaci%C3%B3n de Ajedrez de la Regi%C3%B3n de Murcia":MAILTO:farm@farm.es
END:VEVENT
END:VCALENDAR