BEGIN:VCALENDAR
VERSION:2.0
PRODID:-//Club de Ajedrez Thader Chess ENAE - ECPv6.15.20//NONSGML v1.0//EN
CALSCALE:GREGORIAN
METHOD:PUBLISH
X-ORIGINAL-URL:https://www.thaderchess.es
X-WR-CALDESC:Eventos para Club de Ajedrez Thader Chess ENAE
REFRESH-INTERVAL;VALUE=DURATION:PT1H
X-Robots-Tag:noindex
X-PUBLISHED-TTL:PT1H
BEGIN:VTIMEZONE
TZID:Europe/Madrid
BEGIN:DAYLIGHT
TZOFFSETFROM:+0100
TZOFFSETTO:+0200
TZNAME:CEST
DTSTART:20240331T010000
END:DAYLIGHT
BEGIN:STANDARD
TZOFFSETFROM:+0200
TZOFFSETTO:+0100
TZNAME:CET
DTSTART:20241027T010000
END:STANDARD
BEGIN:DAYLIGHT
TZOFFSETFROM:+0100
TZOFFSETTO:+0200
TZNAME:CEST
DTSTART:20250330T010000
END:DAYLIGHT
BEGIN:STANDARD
TZOFFSETFROM:+0200
TZOFFSETTO:+0100
TZNAME:CET
DTSTART:20251026T010000
END:STANDARD
BEGIN:DAYLIGHT
TZOFFSETFROM:+0100
TZOFFSETTO:+0200
TZNAME:CEST
DTSTART:20260329T010000
END:DAYLIGHT
BEGIN:STANDARD
TZOFFSETFROM:+0200
TZOFFSETTO:+0100
TZNAME:CET
DTSTART:20261025T010000
END:STANDARD
END:VTIMEZONE
BEGIN:VEVENT
DTSTART;TZID=Europe/Madrid:20250905T180000
DTEND;TZID=Europe/Madrid:20250911T150000
DTSTAMP:20260424T051042
CREATED:20250726T062004Z
LAST-MODIFIED:20250907T115243Z
UID:12163-1757095200-1757602800@www.thaderchess.es
SUMMARY:Campeonato de España de Aficionados por Tramos de Elo sub-1700\, sub-2000 y sub-2300
DESCRIPTION:Convocatoria CE Aficionados 2025. Hotel Spa Villa Pasiega\, Hoznayo (Cantabria).\n    \n    \n    \n    \n    \n    \n\n\n \n\n         \n\nCampeonato de España de Aficionados 2025\nHoznayo (Cantabria)\, del 6 al 11 de septiembre de 2025 \n\n\n            Info 64   |\n            |   Partidas en Directo (Lichess)\n        \n         \n\n            \n                \n                Convocatoria FEDA (PDF Original)\n            \n        \n        \n             \n\nInformación General\n\n\nLugar: Hotel Spa Villa Pasiega\, Hoznayo (Cantabria).\nFechas: Del 6 al 11 de septiembre de 2025.\nOrganizan: Federación Española de Ajedrez (FEDA) y Federación Cántabra de Ajedrez.\nSistema de Juego: Suizo a 9 rondas.\nRitmo de Juego: 90 minutos por jugador + 30 segundos de incremento por jugada.\nLímite de participación: 500 jugadores.\n\n\n             \n\nCalendario del Torneo\n\n\n\n\nDía\nHora\nActividad\n\n\n\n\n05-09-2025\n18:00-20:00\nLlegada y Acreditación\n\n\n06-09-2025\n08:00-09:00\nLlegada y Acreditación\n\n\n06-09-2025\n10:00\nRonda 1\n\n\n06-09-2025\n17:00\nRonda 2\n\n\n07-09-2025\n17:00\nRonda 3\n\n\n08-09-2025\n10:00\nRonda 4\n\n\n08-09-2025\n17:00\nRonda 5\n\n\n09-09-2025\n17:00\nRonda 6\n\n\n10-09-2025\n10:00\nRonda 7\n\n\n10-09-2025\n17:00\nRonda 8\n\n\n11-09-2025\n10:00\nRonda 9\n\n\n11-09-2025\n14:00\nEntrega de Premios\n\n\n\n\n             \n\nGrupos de Participación\n\n\nGrupo A: Sub-2300\nElo FIDE menor de 2300. No pueden participar jugadores con títulos IM\, WIM\, GM\, WGM. \n \n\nGrupo B: Sub-2000\nElo FIDE menor de 2000. No pueden participar jugadores con títulos FM\, WFM\, IM\, WIM\, GM\, WGM. \n \n\nGrupo C: Sub-1700\nElo FIDE menor de 1700 o sin Elo. No pueden participar jugadores con títulos FM\, WFM\, IM\, WIM\, GM\, WGM. \n \n \n\n             \n\nPremios\n\nClasificación General (por grupo)\n\n\n\n\nPuesto\nPremio\n\n\n\n\n1º\n1.200\,00 €\n\n\n2º\n900\,00 €\n\n\n3º\n500\,00 €\n\n\n4º\n200\,00 €\n\n\n5º\n100\,00 €\n\n\n\nPremios Especiales (por grupo)\n\n1ª Clasificada Femenina: 100\,00 €\n1er Clasificado Veterano +65: 100\,00 €\n1er Clasificado Federado en Cantabria: 100\,00 €\n1er Clasificado Alojado en el Hotel Oficial: 50\,00 €\nPremios por tramo de Elo: 100\,00 € (Sub-2150\, Sub-1850\, Sub-1550 o sin Elo)\n\n\n             \n\nInscripciones\n\nCanon de inscripción: 45\,00 €. \nPlazo ordinario: Hasta el 20 de agosto de 2025. \nTodas las inscripciones deben formalizarse a través de la APP de la FEDA. Se requiere licencia federativa en vigor por la FEDA. \n \n\n              \n\nAlojamiento\n\n\nHotel Oficial: Hotel Spa Villa Pasiega\n\n\n\n\nRégimen\nHab. Individual\nHab. Doble (p.p.)\n\n\n\n\nAlojamiento y Desayuno\n75\,00 €\n55\,00 €\n\n\nMedia Pensión\n95\,00 €\n80\,00 €\n\n\nPensión Completa\n110\,00 €\n90\,00 €\n\n\n\n \n\nHoteles Alternativos\nExisten varias opciones como los Apartamentos Spa Villa Pasiega\, Hotel Los Pasiegos\, Hotel Adelma y Hostal Mizmaya. Se recomienda consultar el PDF para ver todos los precios y detalles. \n \n \n\n         \n         \n\nInformación extraída de la circular oficial de la FEDA. Para detalles completos\, consulte el documento original.
URL:https://www.thaderchess.es/event/campeonato-de-espana-de-aficionados-por-tramos-de-elo-sub-1700-sub-2000-y-sub-2300/
LOCATION:Hotel Spa Villa Pasiega\, Las Barreras\, 2\, Hoznayo\, Cantabria\, 39716\, Spain
CATEGORIES:Campeonatos
ATTACH;FMTTYPE=image/jpeg:https://www.thaderchess.es/wp-content/uploads/2025/07/CE_Aficionados.jpg
ORGANIZER;CN="Federaci%C3%B3n Espa%C3%B1ola de Ajedrez":MAILTO:ajedrez@feda.org
END:VEVENT
END:VCALENDAR