BEGIN:VCALENDAR
VERSION:2.0
PRODID:-//Club de Ajedrez Thader Chess ENAE - ECPv6.15.20//NONSGML v1.0//EN
CALSCALE:GREGORIAN
METHOD:PUBLISH
X-ORIGINAL-URL:https://www.thaderchess.es
X-WR-CALDESC:Eventos para Club de Ajedrez Thader Chess ENAE
REFRESH-INTERVAL;VALUE=DURATION:PT1H
X-Robots-Tag:noindex
X-PUBLISHED-TTL:PT1H
BEGIN:VTIMEZONE
TZID:Europe/Madrid
BEGIN:DAYLIGHT
TZOFFSETFROM:+0100
TZOFFSETTO:+0200
TZNAME:CEST
DTSTART:20240331T010000
END:DAYLIGHT
BEGIN:STANDARD
TZOFFSETFROM:+0200
TZOFFSETTO:+0100
TZNAME:CET
DTSTART:20241027T010000
END:STANDARD
BEGIN:DAYLIGHT
TZOFFSETFROM:+0100
TZOFFSETTO:+0200
TZNAME:CEST
DTSTART:20250330T010000
END:DAYLIGHT
BEGIN:STANDARD
TZOFFSETFROM:+0200
TZOFFSETTO:+0100
TZNAME:CET
DTSTART:20251026T010000
END:STANDARD
BEGIN:DAYLIGHT
TZOFFSETFROM:+0100
TZOFFSETTO:+0200
TZNAME:CEST
DTSTART:20260329T010000
END:DAYLIGHT
BEGIN:STANDARD
TZOFFSETFROM:+0200
TZOFFSETTO:+0100
TZNAME:CET
DTSTART:20261025T010000
END:STANDARD
END:VTIMEZONE
BEGIN:VEVENT
DTSTART;TZID=Europe/Madrid:20250627T093000
DTEND;TZID=Europe/Madrid:20250725T143000
DTSTAMP:20260424T084008
CREATED:20250409T164359Z
LAST-MODIFIED:20250706T081332Z
UID:11033-1751016600-1753453800@www.thaderchess.es
SUMMARY:Campeonatos de España Individuales Sub-8 a Sub-16 – 2025
DESCRIPTION:Enlaces Info64 del campeonato: SUB-8  |  SUB-10  |  SUB-12  |  SUB-14  |  SUB-16 \nRetransmisión en CHESS.COM  ||  LICHESS  ||  SICHESS \nORGANIZACIÓN \nCorrerá a cargo de la Federación Andaluza de Ajedrez\, Delegación de Almería\, con la colaboración de la Federación Española de Ajedrez. \nCALENDARIOS \nFechas de los Campeonatos y Plazos de inscripción y Reserva: \n \nSistema de Juego:  \nEl sistema de pareo será el suizo según valoración (programa Vega)\, a 9 rondas. (Art. 102 RGC ). Si el número de jugadores lo aconseja o por fuerza mayor\, el Delegado Federativo podrá variar el número de rondas antes del inicio\, tras oír al Director de Torneo\, al Árbitro Principal y al Comité de Apelación \nSe fijan los ritmos de juego conforme al artículo 28 del Reglamento General de Competiciones: – Campeonato Sub-08: 45’ iniciales más 15” por cada jugada. (G-45’+15”). – Campeonatos Sub-10 a Sub-16: 90’ iniciales más 30” por cada jugada. (G-90’ + 30”). \nCalendario de rondas y horarios de los Campeonatos: \n \n \nComprobación de los datos acreditados en la presentación (en info64): Para cada Campeonato\, antes de las 20:30 horas del día anterior a la 1ª jornada. \nSala de juego: Salón Mortown HOTEL ENVÍA ALMERÍA SPA GOLF Avda. de la Envía 37. Urb. La Envía Golf 04727\, Vícar (Almería).\nMás detalles en el documento de convocatoria: C11-2025.-Convocatoria-CE-Sub-8-a-Sub-16-2025.pdf \nAnexo para la reserva del hotel: C11-2025_Anexo_I_Form_Reserva_Hotel_CE_S08_a_S16.xlsx
URL:https://www.thaderchess.es/event/campeonatos-de-espana-individuales-sub-8-a-sub-16-2025/
LOCATION:HOTEL ENVÍA ALMERÍA SPA GOLF\, Tr.ª de La Envía\, s/n\, Valle de la Envía\, Almería\, 04727
CATEGORIES:Campeonatos
ATTACH;FMTTYPE=image/jpeg:https://www.thaderchess.es/wp-content/uploads/2025/04/Cartel-VICAR-2025-1.jpg
ORGANIZER;CN="Federaci%C3%B3n Espa%C3%B1ola de Ajedrez":MAILTO:ajedrez@feda.org
END:VEVENT
END:VCALENDAR