BEGIN:VCALENDAR
VERSION:2.0
PRODID:-//Club de Ajedrez Thader Chess ENAE - ECPv6.15.20//NONSGML v1.0//EN
CALSCALE:GREGORIAN
METHOD:PUBLISH
X-WR-CALNAME:Club de Ajedrez Thader Chess ENAE
X-ORIGINAL-URL:https://www.thaderchess.es
X-WR-CALDESC:Eventos para Club de Ajedrez Thader Chess ENAE
REFRESH-INTERVAL;VALUE=DURATION:PT1H
X-Robots-Tag:noindex
X-PUBLISHED-TTL:PT1H
BEGIN:VTIMEZONE
TZID:Europe/Madrid
BEGIN:DAYLIGHT
TZOFFSETFROM:+0100
TZOFFSETTO:+0200
TZNAME:CEST
DTSTART:20240331T010000
END:DAYLIGHT
BEGIN:STANDARD
TZOFFSETFROM:+0200
TZOFFSETTO:+0100
TZNAME:CET
DTSTART:20241027T010000
END:STANDARD
BEGIN:DAYLIGHT
TZOFFSETFROM:+0100
TZOFFSETTO:+0200
TZNAME:CEST
DTSTART:20250330T010000
END:DAYLIGHT
BEGIN:STANDARD
TZOFFSETFROM:+0200
TZOFFSETTO:+0100
TZNAME:CET
DTSTART:20251026T010000
END:STANDARD
BEGIN:DAYLIGHT
TZOFFSETFROM:+0100
TZOFFSETTO:+0200
TZNAME:CEST
DTSTART:20260329T010000
END:DAYLIGHT
BEGIN:STANDARD
TZOFFSETFROM:+0200
TZOFFSETTO:+0100
TZNAME:CET
DTSTART:20261025T010000
END:STANDARD
END:VTIMEZONE
BEGIN:VEVENT
DTSTART;TZID=Europe/Madrid:20250503T090000
DTEND;TZID=Europe/Madrid:20250511T120000
DTSTAMP:20260424T110710
CREATED:20250414T141441Z
LAST-MODIFIED:20250414T141441Z
UID:11091-1746262800-1746964800@www.thaderchess.es
SUMMARY:IV Campeonato Regional Individual Absoluto por Tramos de Elo “Grupo Caliche”
DESCRIPTION:La Federación de Ajedrez de la Región de Murcia\, en colaboración con el Club Ajedrez Mar Menor\, convoca el IV Campeonato Regional Individual Absoluto por Tramos de ELO “Grupo Caliche Murcia 2025”. \nEl torneo se celebrará los días 3\, 4\, 10 y 11 de mayo en las instalaciones centrales de Grupo Caliche en San Javier. \nLa competición está abierta a todos los jugadores con licencia federativa FARM en vigor y se jugará por sistema suizo a 7 rondas\, con un ritmo de 60 minutos más 30 segundos por jugada. \nHabrá tres tramos de ELO: hasta 1699\, de 1700 a 1999 y de 2000 a 2299\, con premios en metálico y trofeos para los cinco primeros clasificados de cada categoría\, además de premios especiales a veteranos\, jugadoras y jóvenes talentos. \nNota: Si no se alcanza el mínimo de 15 participantes por tramo\, se unificarán algunos grupos a efectos de juego\, manteniéndose en todo caso los tres tramos para la distribución de premios. \nLa inscripción tiene un coste de 25 euros y puede formalizarse hasta el martes 29 de abril a través del siguiente formulario. \nEl torneo será válido para ELO FIDE y proclamará a los campeones regionales de cada tramo.
URL:https://www.thaderchess.es/event/iv-campeonato-regional-individual-absoluto-por-tramos-de-elo-grupo-caliche/
LOCATION:Grupo Caliche – Oficinas Centrales\, C/ David Martinez Albaladejo\, 2\, San Javier\, Murcia\, 30730\, Spain
CATEGORIES:Campeonatos
ORGANIZER;CN="Federaci%C3%B3n de Ajedrez de la Regi%C3%B3n de Murcia":MAILTO:farm@farm.es
END:VEVENT
END:VCALENDAR