BEGIN:VCALENDAR
VERSION:2.0
PRODID:-//Club de Ajedrez Thader Chess ENAE - ECPv6.15.20//NONSGML v1.0//EN
CALSCALE:GREGORIAN
METHOD:PUBLISH
X-WR-CALNAME:Club de Ajedrez Thader Chess ENAE
X-ORIGINAL-URL:https://www.thaderchess.es
X-WR-CALDESC:Eventos para Club de Ajedrez Thader Chess ENAE
REFRESH-INTERVAL;VALUE=DURATION:PT1H
X-Robots-Tag:noindex
X-PUBLISHED-TTL:PT1H
BEGIN:VTIMEZONE
TZID:Europe/Madrid
BEGIN:DAYLIGHT
TZOFFSETFROM:+0100
TZOFFSETTO:+0200
TZNAME:CEST
DTSTART:20240331T010000
END:DAYLIGHT
BEGIN:STANDARD
TZOFFSETFROM:+0200
TZOFFSETTO:+0100
TZNAME:CET
DTSTART:20241027T010000
END:STANDARD
BEGIN:DAYLIGHT
TZOFFSETFROM:+0100
TZOFFSETTO:+0200
TZNAME:CEST
DTSTART:20250330T010000
END:DAYLIGHT
BEGIN:STANDARD
TZOFFSETFROM:+0200
TZOFFSETTO:+0100
TZNAME:CET
DTSTART:20251026T010000
END:STANDARD
BEGIN:DAYLIGHT
TZOFFSETFROM:+0100
TZOFFSETTO:+0200
TZNAME:CEST
DTSTART:20260329T010000
END:DAYLIGHT
BEGIN:STANDARD
TZOFFSETFROM:+0200
TZOFFSETTO:+0100
TZNAME:CET
DTSTART:20261025T010000
END:STANDARD
END:VTIMEZONE
BEGIN:VEVENT
DTSTART;TZID=Europe/Madrid:20250425T160000
DTEND;TZID=Europe/Madrid:20250427T140000
DTSTAMP:20260424T110317
CREATED:20250406T075434Z
LAST-MODIFIED:20250407T050406Z
UID:10986-1745596800-1745762400@www.thaderchess.es
SUMMARY:X Campeonato de España de Ajedrez Escolar 2025
DESCRIPTION:Desde la Federación de Ajedrez de la Comunidad Valenciana anunciamos oficialmente que\, por segundo año consecutivo\, organizaremos el X Campeonato de España Escolar por Equipos Sub-12 y Sub-18. Este campeonato nacional se celebrará los días 25\, 26 y 27 de abril de 2025 en Guardamar del Segura (Alicante)\, en un entorno único frente al mar. Las partidas se jugarán en el Hotel Playas de Guardamar\, que también será el alojamiento oficial para los equipos y sus acompañantes. \nEl plazo de reservas en el hotel ya está abierto\, y los equipos\, clubes o colegios interesados en beneficiarse de los descuentos especiales y asegurar sus habitaciones tienen hasta el 15 de febrero de 2025 para hacerlo. Para más información sobre el precio de las habitaciones\, y el procedimiento de reservas con el hotel\, puedes consultar la noticia aquí. \nEl campeonato cuenta con la colaboración de la Federación Española de Ajedrez\, el Consejo Superior de Deportes\, el Ayuntamiento de Guardamar del Segura y el Club-Escuela de Ajedrez «Dama de Guardamar». La dirección estará a cargo del Maestro FIDE José Antonio Clement Gómez\, director general de PROMOCHESS\, garantizando un evento de alto nivel organizativo y competitivo. \nCircular FEDA:   CONVOCATORIA   |   Anexo C04 Inscripción   |   Anexo C04 Delegado \n \n 
URL:https://www.thaderchess.es/event/x-campeonato-de-espana-de-ajedrez-escolar-2025/
LOCATION:Hotel Playas de Guardamar\, c/ Grecia\, 1\, Campoamor\, Alicante\, 03140\, Spain
CATEGORIES:Campeonatos
ATTACH;FMTTYPE=image/jpeg:https://www.thaderchess.es/wp-content/uploads/2025/04/camp_espa_escolar.jpeg
END:VEVENT
BEGIN:VEVENT
DTSTART;TZID=Europe/Madrid:20250427T093000
DTEND;TZID=Europe/Madrid:20250427T140000
DTSTAMP:20260424T110317
CREATED:20250406T084810Z
LAST-MODIFIED:20250406T084810Z
UID:10991-1745746200-1745762400@www.thaderchess.es
SUMMARY:X Campeonato Regional Individual Blitz Murcia 2025
DESCRIPTION:1. ORGANIZACIÓN \nEstará a cargo de la Federación de Ajedrez de la Región de Murcia y el Club de Ajedrez Thader Chess\, con la colaboración de la Dirección General de Deportes de la Comunidad Autónoma\, y el CC Myrtea \n2. VALIDEZ \nEste campeonato es válido para la proclamación del Campeón Regional de Ajedrez blitz\, así como para la obtención de Elo blitz FIDE \n3. PARTICIPACIÓN \nPodrán participar todos aquellos jugadores/as\, de cualquier origen\, sin límite de edad\, con licencia Federativa FARM en vigor para la temporada 2025 y que hayan abonado la cuota de inscripción. \n4. SISTEMA DE JUEGO \nEl Campeonato se jugará por sistema suizo a 9 rondas. Para los emparejamientos se utilizará el soporte informático Swiss Manager El ritmo de juego será de 3 minutos por jugador para toda la partida más 2 segundos por jugada. El orden inicial de los jugadores se establecerá con los siguientes criterios: 1º Elo FIDE\, 2º Orden alfabético. Reglamento Leyes del Ajedrez FIDE 2018 para Ajedrez Relámpago y se aplicará el artículo B 4\, durante toda la competición \n5. CRITERIOS DE DESEMPATE \nLos empates a puntos en la clasificación final se resolverán por el siguiente orden: 1 Brasileño (config.variable) (0 – 1) [37] 2 Buchholz medio (config.variable\, (1-1) [37] 3 Bucholz total (0-0) [37] 4 Resultado particular [11] \n6. CALENDARIO Y HORARIO \nLas partidas se jugarán el domingo 27 de Abril de 2025 en horario solo de mañana 09:30 h Sorteo de color. 9:35 h. Primera ronda. 10:00 h. Segunda Ronda 10:25 h Tercera Ronda. 10:50 h. Cuarta Ronda. Desayuno 11:40 h. Quinta Ronda. 12:05 h. Sexta Ronda. 12:30 h. Séptima Ronda. 12:55 h Octava Ronda. 13:20 h Novena Ronda Entrega de premios del torneo \n7. LOCAL DE JUEGO \nCentro Comercial Myrtea (Murcia). Google Maps \n8. CUOTA DE INSCRIPCIÓN \nLos jugadores abonarán\, una cuota de inscripción de 15\,00 €\, mediante ingreso en la cuenta de la Federación de Caixabank IBAN: ES40 2100 8215 8313 0010 1385. \n9. FORMALIZACIÓN DE LA INSCRIPCIÓN \nLa inscripción se realizará rellenando y enviando el correspondiente formulario (https://docs.google.com/) que encontrarás en la web de F.A.R.M\, www.farm.es indicando todos los datos. La fecha límite de inscripción será el miércoles 23 de Abril hasta las 15\,00 h. \n10. AUSENCIAS E INCOMPARECENCIAS \nEl jugador que no pueda asistir a una ronda deberá comunicarlo al Árbitro Principal con la suficiente antelación que evite su emparejamiento Se permiten otras ausencias o descansos\, siempre que sean justificadas\, tenga conocimiento el árbitro y el jugador no sea emparejado\, incluso en las últimas rondas. En estas rondas en el que el jugador no es emparejado\, recibirá 0 puntos Si un jugador no comparece a una ronda sin previo aviso y sin motivo que lo justifique\, quedará eliminado del campeonato sin derecho al premio que le pudiere corresponder. Los jugadores formalmente inscritos serán emparejados en la primera ronda aunque estén ausentes en el sorteo de color. Por motivos excepcionales y muy justificables un jugador no inscrito que esté presente en el sorteo de color podría ser incorporado al Campeonato. \n11. COMITÉ DE APELACIÓN \nEn el Acto de Presentación y antes del sorteo de color se constituirá un Comité de Apelación de acuerdo con lo establecido en el Capítulo 4º del Reglamento de General de Competiciones de la FEDA \n12. PREMIOS \nCLASIFICACIÓN GENERAL: \n\nCAMPEÓN ……………………………………200 € y trofeo\nSUBCAMPEÓN……………………………..150 € y trofeo\nTERCER CLASIFICADO ………………. 100 € y trofeo\nCUARTO CLASIFICADO …………………75 € y medalla\nQUINTO CLASIFICADO ………………….50 € y medalla\n\nPREMIOS ESPECIALES \n\nMEJOR JUGADOR VETERANO (nacidos en 1959 y anteriores) 1º Clasificado: Medalla\nMEJOR JUGADORA 1ª Clasificada: Medalla\nMEJOR SUB-18 (2007-2008) 1º Clasificado: Medalla\nMEJOR SUB-16 (2009-2010)  1º Clasificado: Medalla\nMEJOR SUB-14 (2011-2012) 1º Clasificado: Medalla\nMEJOR SUB-12 (2013-2014)  1º Clasificado: Medalla\nMEJOR SUB-10 (2015-2016) 1º Clasificado: Medalla\nMEJOR SUB 08 (2017 y posteriores) 1º Clasificado: Medalla\n\nLos premios no son acumulables y se entregarán 1º por mayor cuantía y 2º en el orden establecido en estas bases. Se entregarán a en la sala de juego al finalizar la última ronda. Los premios estarán sujetos a la correspondiente retención fiscal
URL:https://www.thaderchess.es/event/x-campeonato-regional-individual-blitz-murcia-2025/
LOCATION:Centro Comercial Myrtea\, Avd. Severo Ochoa\, s/n\, El Puntal\, Murcia\, 30100\, Spain
CATEGORIES:Campeonatos
ATTACH;FMTTYPE=image/jpeg:https://www.thaderchess.es/wp-content/uploads/2025/04/Torneo_Regional_Blitz_Low.jpg
ORGANIZER;CN="Federaci%C3%B3n de Ajedrez de la Regi%C3%B3n de Murcia":MAILTO:farm@farm.es
END:VEVENT
END:VCALENDAR